BEGIN:VCALENDAR
VERSION:2.0
PRODID:-//CATI - ECPv6.15.18//NONSGML v1.0//EN
CALSCALE:GREGORIAN
METHOD:PUBLISH
X-WR-CALNAME:CATI
X-ORIGINAL-URL:https://catinet.com
X-WR-CALDESC:Events for CATI
REFRESH-INTERVAL;VALUE=DURATION:PT1H
X-Robots-Tag:noindex
X-PUBLISHED-TTL:PT1H
BEGIN:VTIMEZONE
TZID:UTC
BEGIN:STANDARD
TZOFFSETFROM:+0000
TZOFFSETTO:+0000
TZNAME:UTC
DTSTART:20240101T000000
END:STANDARD
END:VTIMEZONE
BEGIN:VEVENT
DTSTART;VALUE=DATE:20260617
DTEND;VALUE=DATE:20260819
DTSTAMP:20260422T003135
CREATED:20260410T153411Z
LAST-MODIFIED:20260410T161247Z
UID:19381-1781654400-1787097599@catinet.com
SUMMARY:NTSA Training & Simulation Industry Symposium (TSIS)
DESCRIPTION:
URL:https://catinet.com/event/ntsa-training-simulation-industry-symposium-tsis/
LOCATION:Rosen Central Hotel\, Orlando\, FL\, United States
END:VEVENT
BEGIN:VEVENT
DTSTART;VALUE=DATE:20260422
DTEND;VALUE=DATE:20260423
DTSTAMP:20260422T003135
CREATED:20260410T151551Z
LAST-MODIFIED:20260410T161209Z
UID:19377-1776816000-1776902399@catinet.com
SUMMARY:NTSA Simulation & Training Community Forum
DESCRIPTION:
URL:https://catinet.com/event/ntsa-simulation-training-community-forum/
LOCATION:Dayton Convention Center\, OH\, United States
END:VEVENT
BEGIN:VEVENT
DTSTART;TZID=UTC:20260415T080000
DTEND;TZID=UTC:20260417T170000
DTSTAMP:20260422T003135
CREATED:20260410T150820Z
LAST-MODIFIED:20260410T150820Z
UID:19372-1776240000-1776445200@catinet.com
SUMMARY:Army Aviation Warfighting Summit (AAAA)
DESCRIPTION:Booth #2517
URL:https://catinet.com/event/army-aviation-warfighting-summit-aaaa/
LOCATION:Gaylord Opryland Hotel & Convention Center\, Nashville\, TN\, United States
END:VEVENT
BEGIN:VEVENT
DTSTART;TZID=UTC:20251116T080000
DTEND;TZID=UTC:20251116T170000
DTSTAMP:20260422T003135
CREATED:20251116T044003Z
LAST-MODIFIED:20260410T161349Z
UID:18605-1763280000-1763312400@catinet.com
SUMMARY:Army Aviation Mission Solution Summit 2025
DESCRIPTION:Army Aviation Mission Solution Summit 2025 \n\nSee Location for Booth #2515
URL:https://catinet.com/event/army-aviation-mission-solution-summit-2025/
LOCATION:FL
END:VEVENT
END:VCALENDAR